BEGIN:VCALENDAR

METHOD:PUBLISH
X-WR-TIMEZONE:Europe/Zurich
X-WR-CALNAME:HCM FU18
CALSCALE:GREGORIAN
VERSION:2.0

BEGIN:VTIMEZONE
TZID:Europe/Zurich
BEGIN:DAYLIGHT
TZOFFSETFROM:+0100
TZOFFSETTO:+0200
DTSTART:19810329T020000
RRULE:FREQ=YEARLY;BYMONTH=3;BYDAY=-1SU
TZNAME:CEST
END:DAYLIGHT
BEGIN:STANDARD
TZOFFSETFROM:+0200
TZOFFSETTO:+0100
DTSTART:19961027T030000
RRULE:FREQ=YEARLY;BYMONTH=10;BYDAY=-1SU
TZNAME:CET
END:STANDARD
END:VTIMEZONE

BEGIN:VEVENT
DTSTART;TZID=Europe/Zurich:20250906T110000
DTEND;TZID=Europe/Zurich:20250906T123000
SUMMARY:R-Cup F | HC Malters + - TV Dagmersellen (14:23)
LOCATION:Malters Oberei
UID:fu18-69ad-c1e1-07f7-f7d035d7baf0
END:VEVENT

BEGIN:VEVENT
DTSTART;TZID=Europe/Zurich:20250907T140000
DTEND;TZID=Europe/Zurich:20250907T153000
SUMMARY:FU18P | BSV RW Sursee ° - HC Malters + (16:32)
LOCATION:Sursee Stadthalle
UID:fu18-1534-b76d-325a-8f591b52d302
END:VEVENT

BEGIN:VEVENT
DTSTART;TZID=Europe/Zurich:20250914T160000
DTEND;TZID=Europe/Zurich:20250914T173000
SUMMARY:FU18P | SG Handball Seetal - HC Malters + (24:28)
LOCATION:Rothenburg Lindau
UID:fu18-b1d1-0e7b-afa4-421218a51b1e
END:VEVENT

BEGIN:VEVENT
DTSTART;TZID=Europe/Zurich:20251018T141500
DTEND;TZID=Europe/Zurich:20251018T154500
SUMMARY:FU18P | Handball Emmen - HC Malters + (18:30)
LOCATION:Emmen Rossmoos
UID:fu18-eb16-3727-917c-bba1eea20854
END:VEVENT

BEGIN:VEVENT
DTSTART;TZID=Europe/Zurich:20251108T190000
DTEND;TZID=Europe/Zurich:20251108T203000
SUMMARY:FU18P | HC Malters + - SG Handball Seetal (28:30)
LOCATION:Malters Oberei
UID:fu18-979d-472a-8480-4b9f647bc185
END:VEVENT

BEGIN:VEVENT
DTSTART;TZID=Europe/Zurich:20251109T100000
DTEND;TZID=Europe/Zurich:20251109T113000
SUMMARY:FU18P | HC Malters + - BSV RW Sursee ° (38:13)
LOCATION:Malters Oberei
UID:fu18-091d-584f-ced3-01b442654dd8
END:VEVENT

BEGIN:VEVENT
DTSTART;TZID=Europe/Zurich:20251115T141500
DTEND;TZID=Europe/Zurich:20251115T154500
SUMMARY:FU18P | SG Ruswil Wolhusen - HC Malters + (29:33)
LOCATION:Wolhusen Berghof
UID:fu18-ca46-c1b9-512a-7a8315fa3c5a
END:VEVENT

BEGIN:VEVENT
DTSTART;TZID=Europe/Zurich:20251122T190000
DTEND;TZID=Europe/Zurich:20251122T203000
SUMMARY:FU18P | HC Malters + - Handball Emmen (28:22)
LOCATION:Malters Oberei
UID:fu18-3b8a-6142-26a9-53a8cd9526fc
END:VEVENT

BEGIN:VEVENT
DTSTART;TZID=Europe/Zurich:20251123T120000
DTEND;TZID=Europe/Zurich:20251123T133000
SUMMARY:FU18P | HC Malters + - SG Ruswil Wolhusen (34:28)
LOCATION:Malters Oberei
UID:fu18-6f3e-f77a-c0e3-619e98159e9b
END:VEVENT

BEGIN:VEVENT
DTSTART;TZID=Europe/Zurich:20260117T143000
DTEND;TZID=Europe/Zurich:20260117T160000
SUMMARY:FU18I Ab | SG Handball Basel-Stadt - HC Malters + (23:24)
LOCATION:Basel Bäumlihof
UID:fu18-9fd8-1843-ad7f-202f26c1a174
END:VEVENT

BEGIN:VEVENT
DTSTART;TZID=Europe/Zurich:20260125T161500
DTEND;TZID=Europe/Zurich:20260125T174500
SUMMARY:FU18I Ab | RG Genève/Nyon/TCGG - HC Malters + (34:32)
LOCATION:Nyon Cossy
UID:fu18-6883-966f-d8f9-18a4aa29be29
END:VEVENT

BEGIN:VEVENT
DTSTART;TZID=Europe/Zurich:20260131T154500
DTEND;TZID=Europe/Zurich:20260131T171500
SUMMARY:FU18I Ab | HC Malters + - SG Vaud Handball (13:27)
LOCATION:Malters Oberei
UID:fu18-4918-2f81-e6a1-3cf5eaa496d5
END:VEVENT

BEGIN:VEVENT
DTSTART;TZID=Europe/Zurich:20260207T161000
DTEND;TZID=Europe/Zurich:20260207T174000
SUMMARY:FU18I Ab | HC Malters + - SG Muotathal/Mythen-Shooters (14:33)
LOCATION:Malters Oberei
UID:fu18-d296-c101-daa8-8a51f6ca8cfc
END:VEVENT

BEGIN:VEVENT
DTSTART;TZID=Europe/Zurich:20260221T151500
DTEND;TZID=Europe/Zurich:20260221T164500
SUMMARY:FU18I Ab | HC Malters + - SG Handball Seetal (23:32)
LOCATION:Malters Oberei
UID:fu18-26e3-59e8-3860-db1d11b6acca
END:VEVENT

BEGIN:VEVENT
DTSTART;TZID=Europe/Zurich:20260307T163000
DTEND;TZID=Europe/Zurich:20260307T180000
SUMMARY:FU18I Ab | HC Malters + - RG Genève/Nyon/TCGG (30:22)
LOCATION:Malters Oberei
UID:fu18-ef0d-3930-a7b6-c95bd2b32ed4
END:VEVENT

BEGIN:VEVENT
DTSTART;TZID=Europe/Zurich:20260322T000000
DTEND;TZID=Europe/Zurich:20260322T013000
SUMMARY:FU18I Ab | SG Vaud Handball - HC Malters +
LOCATION:
UID:fu18-94f6-d7e0-4a4d-452035300f18
END:VEVENT

BEGIN:VEVENT
DTSTART;TZID=Europe/Zurich:20260328T170000
DTEND;TZID=Europe/Zurich:20260328T183000
SUMMARY:FU18I Ab | SG Muotathal/Mythen-Shooters - HC Malters + (33:18)
LOCATION:Muotathal MZH
UID:fu18-34ed-066d-f378-efacc9b924ec
END:VEVENT

BEGIN:VEVENT
DTSTART;TZID=Europe/Zurich:20260418T154500
DTEND;TZID=Europe/Zurich:20260418T171500
SUMMARY:FU18I Ab | HC Malters + - SG Handball Basel-Stadt (23:32)
LOCATION:Malters Oberei
UID:fu18-577b-cc91-4f9e-55d5e4e4f82f
END:VEVENT

BEGIN:VEVENT
DTSTART;TZID=Europe/Zurich:20260426T114500
DTEND;TZID=Europe/Zurich:20260426T131500
SUMMARY:FU18I Ab | SG Handball Seetal - HC Malters +
LOCATION:Rothenburg Lindau
UID:fu18-11b9-842e-0a27-1ff252c1903e
END:VEVENT

END:VCALENDAR
