BEGIN:VCALENDAR

METHOD:PUBLISH
X-WR-TIMEZONE:Europe/Zurich
X-WR-CALNAME:HCM U13-1
CALSCALE:GREGORIAN
VERSION:2.0

BEGIN:VTIMEZONE
TZID:Europe/Zurich
BEGIN:DAYLIGHT
TZOFFSETFROM:+0100
TZOFFSETTO:+0200
DTSTART:19810329T020000
RRULE:FREQ=YEARLY;BYMONTH=3;BYDAY=-1SU
TZNAME:CEST
END:DAYLIGHT
BEGIN:STANDARD
TZOFFSETFROM:+0200
TZOFFSETTO:+0100
DTSTART:19961027T030000
RRULE:FREQ=YEARLY;BYMONTH=10;BYDAY=-1SU
TZNAME:CET
END:STANDARD
END:VTIMEZONE

BEGIN:VEVENT
DTSTART;TZID=Europe/Zurich:20250907T100000
DTEND;TZID=Europe/Zurich:20250907T113000
SUMMARY:MU13P S2 | HC Malters 2 - HC Malters 1 (16:55)
LOCATION:Malters Oberei
UID:u13-1-bd68-6fd6-40be-98efaae0091f
END:VEVENT

BEGIN:VEVENT
DTSTART;TZID=Europe/Zurich:20251018T170000
DTEND;TZID=Europe/Zurich:20251018T183000
SUMMARY:MU13P S2 | HC Malters 1 - HC Mutschellen (31:17)
LOCATION:Malters Oberei
UID:u13-1-eae2-7d77-ca20-db309e056e3d
END:VEVENT

BEGIN:VEVENT
DTSTART;TZID=Europe/Zurich:20251025T154500
DTEND;TZID=Europe/Zurich:20251025T171500
SUMMARY:MU13P S2 | HC Mutschellen - HC Malters 1 (20:31)
LOCATION:Widen Burkertsmatt
UID:u13-1-854d-6fae-5ee4-2911677c739e
END:VEVENT

BEGIN:VEVENT
DTSTART;TZID=Europe/Zurich:20251101T130000
DTEND;TZID=Europe/Zurich:20251101T143000
SUMMARY:MU13P S2 | HC Malters 1 - HR Hochdorf (39:48)
LOCATION:Malters Oberei
UID:u13-1-e2c0-be24-560d-78c5e599c2a9
END:VEVENT

BEGIN:VEVENT
DTSTART;TZID=Europe/Zurich:20251108T150000
DTEND;TZID=Europe/Zurich:20251108T163000
SUMMARY:MU13P S2 | HC Malters 1 - HC Malters 2 (40:15)
LOCATION:Malters Oberei
UID:u13-1-85d8-ce59-0ad8-981ca2c8286f
END:VEVENT

BEGIN:VEVENT
DTSTART;TZID=Europe/Zurich:20251122T134500
DTEND;TZID=Europe/Zurich:20251122T151500
SUMMARY:MU13P S2 | HSV Säuliamt 1 - HC Malters 1 (38:30)
LOCATION:Affoltern a/A Stigeli
UID:u13-1-274a-d478-6c3a-bca69fa097b8
END:VEVENT

BEGIN:VEVENT
DTSTART;TZID=Europe/Zurich:20251123T100000
DTEND;TZID=Europe/Zurich:20251123T113000
SUMMARY:MU13P S2 | HC Malters 1 - HSV Säuliamt 1 (36:29)
LOCATION:Malters Oberei
UID:u13-1-757b-505c-fd34-c64c85ca5b56
END:VEVENT

BEGIN:VEVENT
DTSTART;TZID=Europe/Zurich:20251206T153000
DTEND;TZID=Europe/Zurich:20251206T170000
SUMMARY:MU13P S2 | HR Hochdorf - HC Malters 1 (51:37)
LOCATION:Hochdorf Avanti
UID:u13-1-7eab-e3a1-649f-fa2b3ff8c02e
END:VEVENT

BEGIN:VEVENT
DTSTART;TZID=Europe/Zurich:20260124T101500
DTEND;TZID=Europe/Zurich:20260124T114500
SUMMARY:MU13P S1 | HSG Mythen Shooters 1 - HC Malters 1 (33:23)
LOCATION:Goldau Berufsbildungszentrum (BBZG)
UID:u13-1-9183-17b5-7931-b6b7a7d29490
END:VEVENT

BEGIN:VEVENT
DTSTART;TZID=Europe/Zurich:20260131T140000
DTEND;TZID=Europe/Zurich:20260131T153000
SUMMARY:MU13P S1 | HC Malters 1 - SPONO EAGLES (16:34)
LOCATION:Malters Oberei
UID:u13-1-48ae-db88-80ca-b8c45637abc7
END:VEVENT

BEGIN:VEVENT
DTSTART;TZID=Europe/Zurich:20260221T170000
DTEND;TZID=Europe/Zurich:20260221T183000
SUMMARY:MU13P S1 | HC Malters 1 - Handball Emmen a (20:53)
LOCATION:Malters Oberei
UID:u13-1-16a5-cdae-362b-8d27a1d8f8c7
END:VEVENT

BEGIN:VEVENT
DTSTART;TZID=Europe/Zurich:20260222T130000
DTEND;TZID=Europe/Zurich:20260222T143000
SUMMARY:MU13P S1 | STV Willisau - HC Malters 1 (38:30)
LOCATION:Willisau BBZ
UID:u13-1-839a-b468-20b5-24afda051228
END:VEVENT

BEGIN:VEVENT
DTSTART;TZID=Europe/Zurich:20260228T163000
DTEND;TZID=Europe/Zurich:20260228T180000
SUMMARY:MU13P S1 | HC Malters 1 - HC Kriens (35:52)
LOCATION:Malters Oberei
UID:u13-1-f90f-2aca-5c64-0289d0a29417
END:VEVENT

BEGIN:VEVENT
DTSTART;TZID=Europe/Zurich:20260307T121500
DTEND;TZID=Europe/Zurich:20260307T134500
SUMMARY:MU13P S1 | BSV Stans 1 - HC Malters 1 (46:34)
LOCATION:Stans Eichli
UID:u13-1-9c83-8d2e-45b2-ad1094d42f4e
END:VEVENT

BEGIN:VEVENT
DTSTART;TZID=Europe/Zurich:20260321T124500
DTEND;TZID=Europe/Zurich:20260321T141500
SUMMARY:MU13P S1 | HC Rothenburg - HC Malters 1 (52:33)
LOCATION:Rothenburg Lindau
UID:u13-1-1700-0029-63a4-9da13542e072
END:VEVENT

BEGIN:VEVENT
DTSTART;TZID=Europe/Zurich:20260322T100000
DTEND;TZID=Europe/Zurich:20260322T113000
SUMMARY:MU13P S1 | SG Ruswil Wolhusen - HC Malters 1 (44:29)
LOCATION:Malters Oberei
UID:u13-1-0e01-938f-c48a-2cfb5f2217fb
END:VEVENT

BEGIN:VEVENT
DTSTART;TZID=Europe/Zurich:20260328T103000
DTEND;TZID=Europe/Zurich:20260328T120000
SUMMARY:MU13P S1 | HC Malters 1 - HR Hochdorf (33:45)
LOCATION:Malters Oberei
UID:u13-1-53c3-bce6-6e43-be4f20955651
END:VEVENT

END:VCALENDAR
