BEGIN:VCALENDAR

METHOD:PUBLISH
X-WR-TIMEZONE:Europe/Zurich
X-WR-CALNAME:HCM U13-2
CALSCALE:GREGORIAN
VERSION:2.0

BEGIN:VTIMEZONE
TZID:Europe/Zurich
BEGIN:DAYLIGHT
TZOFFSETFROM:+0100
TZOFFSETTO:+0200
DTSTART:19810329T020000
RRULE:FREQ=YEARLY;BYMONTH=3;BYDAY=-1SU
TZNAME:CEST
END:DAYLIGHT
BEGIN:STANDARD
TZOFFSETFROM:+0200
TZOFFSETTO:+0100
DTSTART:19961027T030000
RRULE:FREQ=YEARLY;BYMONTH=10;BYDAY=-1SU
TZNAME:CET
END:STANDARD
END:VTIMEZONE

BEGIN:VEVENT
DTSTART;TZID=Europe/Zurich:20250913T103000
DTEND;TZID=Europe/Zurich:20250913T120000
SUMMARY:MU13P S2 | HSV Säuliamt 1 - HC Malters 2 (49:10)
LOCATION:Affoltern a/A Stigeli
UID:u13-2-a597-e505-02f5-ff68e3e25b91
END:VEVENT

BEGIN:VEVENT
DTSTART;TZID=Europe/Zurich:20250920T120000
DTEND;TZID=Europe/Zurich:20250920T133000
SUMMARY:MU13P S2 | HC Malters 2 - HC Mutschellen (26:33)
LOCATION:Malters Oberei
UID:u13-2-0336-dcba-b05b-9d5ad24f4333
END:VEVENT

BEGIN:VEVENT
DTSTART;TZID=Europe/Zurich:20251025T140000
DTEND;TZID=Europe/Zurich:20251025T153000
SUMMARY:MU13P S2 | HC Malters 2 - HR Hochdorf (14:54)
LOCATION:Malters Oberei
UID:u13-2-3644-a684-f98e-a8fe223c713b
END:VEVENT

BEGIN:VEVENT
DTSTART;TZID=Europe/Zurich:20251116T100000
DTEND;TZID=Europe/Zurich:20251116T113000
SUMMARY:MU13P S2 | HC Malters 2 - HSV Säuliamt 1 (15:54)
LOCATION:Malters Oberei
UID:u13-2-0e65-972d-ce68-dad4d52d0639
END:VEVENT

BEGIN:VEVENT
DTSTART;TZID=Europe/Zurich:20251122T104500
DTEND;TZID=Europe/Zurich:20251122T121500
SUMMARY:MU13P S2 | HC Mutschellen - HC Malters 2 (29:26)
LOCATION:Widen Burkertsmatt
UID:u13-2-84d9-ee44-e457-ddef7f2c4f25
END:VEVENT

BEGIN:VEVENT
DTSTART;TZID=Europe/Zurich:20251129T133000
DTEND;TZID=Europe/Zurich:20251129T150000
SUMMARY:MU13P S2 | HR Hochdorf - HC Malters 2 (61:18)
LOCATION:Hochdorf Avanti
UID:u13-2-084b-6fbb-1072-9ed4da8c3d3f
END:VEVENT

BEGIN:VEVENT
DTSTART;TZID=Europe/Zurich:20260110T104500
DTEND;TZID=Europe/Zurich:20260110T121500
SUMMARY:MU13P S2 | Handball Emmen b - HC Malters 2 (42:21)
LOCATION:Emmen Rossmoos
UID:u13-2-6392-3f49-e524-1343aa7acb6a
END:VEVENT

BEGIN:VEVENT
DTSTART;TZID=Europe/Zurich:20260117T140000
DTEND;TZID=Europe/Zurich:20260117T153000
SUMMARY:MU13P S2 | TV Horw 1 - HC Malters 2 (43:6)
LOCATION:Horw Horwerhalle
UID:u13-2-db8e-1af0-cb3a-ca1ae2d00186
END:VEVENT

BEGIN:VEVENT
DTSTART;TZID=Europe/Zurich:20260124T103000
DTEND;TZID=Europe/Zurich:20260124T120000
SUMMARY:MU13P S2 | BSV Stans 2 - HC Malters 2 (24:28)
LOCATION:Stans Eichli
UID:u13-2-20f0-7591-c6fc-b220ffe637cd
END:VEVENT

BEGIN:VEVENT
DTSTART;TZID=Europe/Zurich:20260221T124500
DTEND;TZID=Europe/Zurich:20260221T141500
SUMMARY:MU13P S2 | HC Mutschellen - HC Malters 2 (43:15)
LOCATION:Mutschellen Kreisschule
UID:u13-2-07cd-fd23-373b-17c6b337251c
END:VEVENT

BEGIN:VEVENT
DTSTART;TZID=Europe/Zurich:20260228T144500
DTEND;TZID=Europe/Zurich:20260228T161500
SUMMARY:MU13P S2 | HC Malters 2 - Handball Emmen b (21:42)
LOCATION:Malters Oberei
UID:u13-2-92c8-c96e-4c37-100777c7190b
END:VEVENT

BEGIN:VEVENT
DTSTART;TZID=Europe/Zurich:20260307T144500
DTEND;TZID=Europe/Zurich:20260307T161500
SUMMARY:MU13P S2 | HC Malters 2 - TV Horw 1 (10:37)
LOCATION:Malters Oberei
UID:u13-2-e379-6ae8-3883-5da0b6f6ea37
END:VEVENT

BEGIN:VEVENT
DTSTART;TZID=Europe/Zurich:20260321T153000
DTEND;TZID=Europe/Zurich:20260321T170000
SUMMARY:MU13P S2 | HC Malters 2 - BSV Stans 2 (27:23)
LOCATION:Malters Oberei
UID:u13-2-6a9a-eddf-c689-c1d0e3b9ccc3
END:VEVENT

BEGIN:VEVENT
DTSTART;TZID=Europe/Zurich:20260328T121500
DTEND;TZID=Europe/Zurich:20260328T134500
SUMMARY:MU13P S2 | HC Malters 2 - HC Mutschellen (21:32)
LOCATION:Malters Oberei
UID:u13-2-0f49-c89d-1e72-98bb9930789c
END:VEVENT

BEGIN:VEVENT
DTSTART;TZID=Europe/Zurich:20260418T140000
DTEND;TZID=Europe/Zurich:20260418T153000
SUMMARY:MU13P S2 | HC Malters 2 - HC KTV Altdorf ° (23:47)
LOCATION:Malters Oberei
UID:u13-2-d395-7710-85aa-b05244a4fb8f
END:VEVENT

BEGIN:VEVENT
DTSTART;TZID=Europe/Zurich:20260425T130000
DTEND;TZID=Europe/Zurich:20260425T143000
SUMMARY:MU13P S2 | HC KTV Altdorf ° - HC Malters 2
LOCATION:Altdorf Feldli
UID:u13-2-46ba-9f2a-6976-570b0353203e
END:VEVENT

END:VCALENDAR
